BEGIN:VCALENDAR
VERSION:2.0
PRODID:-//Verband für Heimat- und Brauchtumspflege in Rheinland-Pfalz e.V. - ECPv6.15.20//NONSGML v1.0//EN
CALSCALE:GREGORIAN
METHOD:PUBLISH
X-ORIGINAL-URL:https://landestrachtenverband-rlp.de
X-WR-CALDESC:Veranstaltungen für Verband für Heimat- und Brauchtumspflege in Rheinland-Pfalz e.V.
REFRESH-INTERVAL;VALUE=DURATION:PT1H
X-Robots-Tag:noindex
X-PUBLISHED-TTL:PT1H
BEGIN:VTIMEZONE
TZID:Europe/Berlin
BEGIN:DAYLIGHT
TZOFFSETFROM:+0100
TZOFFSETTO:+0200
TZNAME:CEST
DTSTART:20230326T010000
END:DAYLIGHT
BEGIN:STANDARD
TZOFFSETFROM:+0200
TZOFFSETTO:+0100
TZNAME:CET
DTSTART:20231029T010000
END:STANDARD
BEGIN:DAYLIGHT
TZOFFSETFROM:+0100
TZOFFSETTO:+0200
TZNAME:CEST
DTSTART:20240331T010000
END:DAYLIGHT
BEGIN:STANDARD
TZOFFSETFROM:+0200
TZOFFSETTO:+0100
TZNAME:CET
DTSTART:20241027T010000
END:STANDARD
BEGIN:DAYLIGHT
TZOFFSETFROM:+0100
TZOFFSETTO:+0200
TZNAME:CEST
DTSTART:20250330T010000
END:DAYLIGHT
BEGIN:STANDARD
TZOFFSETFROM:+0200
TZOFFSETTO:+0100
TZNAME:CET
DTSTART:20251026T010000
END:STANDARD
END:VTIMEZONE
BEGIN:VEVENT
DTSTART;TZID=Europe/Berlin:20240622T190000
DTEND;TZID=Europe/Berlin:20240622T230000
DTSTAMP:20260422T025304
CREATED:20240220T073948Z
LAST-MODIFIED:20240621T091505Z
UID:1133-1719082800-1719097200@landestrachtenverband-rlp.de
SUMMARY:Landesjohannisfeier
DESCRIPTION:Der Heimatverein Wörth lädt herzlich zur Landesjohannisfeier am 22. Juni 2024 ab 19 Uhr ein. \nDetails sind dem Programm zu entnehmen. \nEinladung Johannisfeier \nAnmeldung zur Landesjohannisfeier 2024-1 \nProgramm Johannesfeier 2024 grün 2
URL:https://landestrachtenverband-rlp.de/event/landesjohannisfeier/
LOCATION:Wörth\, Im Saubögel\, Wörth am Rhein
CATEGORIES:Fest,Mitglieder
END:VEVENT
END:VCALENDAR